BEGIN:VCALENDAR
VERSION:2.0
PRODID:-//Association D-Clic - ECPv4.2//NONSGML v1.0//EN
CALSCALE:GREGORIAN
METHOD:PUBLISH
X-WR-CALNAME:Association D-Clic
X-ORIGINAL-URL:http://www.dclic.asso.fr
X-WR-CALDESC:Events for Association D-Clic
BEGIN:VEVENT
DTSTART;TZID=UTC+1:20251129T090000
DTEND;TZID=UTC+1:20251129T180000
DTSTAMP:20260423T091833
CREATED:20251030T154004
LAST-MODIFIED:20251030T154004
UID:13591-1764406800-1764439200@www.dclic.asso.fr
SUMMARY:COLLECTE EN FAVEUR DE LA BANQUE ALIMENTAIRE - Rotary Strasbourg Droits de l’Homme.
DESCRIPTION:Comme chaque année\, l’association D-Clic participe à la collecte nationale de la Banque Alimentaire\, organisée au Leclerc Rivetoile\, aux côtés du Rotary Strasbourg Droits de l’Homme.\n\n\nN’hésitez pas à vous joindre à nous pour contribuer à cette belle action et soutenir la lutte contre la précarité alimentaire.\n Si vous souhaitez participer à l’action\, contactez-nous à : contact@dclic.asso.fr
URL:http://www.dclic.asso.fr/agenda/collecte-faveur-de-banque-alimentaire-rotary-strasbourg-droits-de-lhomme/
LOCATION:1-3 route du Rhin\, Strasbourg\, 67000
CATEGORIES:D-Clic
ATTACH;FMTTYPE=image/jpeg:http://www.dclic.asso.fr/wp-content/uploads/2025/10/Collecte-banque-Alimentaire.jpg
END:VEVENT
END:VCALENDAR