BEGIN:VCALENDAR
VERSION:2.0
PRODID:-//Association D-Clic - ECPv4.2//NONSGML v1.0//EN
CALSCALE:GREGORIAN
METHOD:PUBLISH
X-WR-CALNAME:Association D-Clic
X-ORIGINAL-URL:http://www.dclic.asso.fr
X-WR-CALDESC:Events for Association D-Clic
BEGIN:VEVENT
DTSTART;VALUE=DATE:20230406
DTEND;VALUE=DATE:20230406
DTSTAMP:20260423T152249
CREATED:20230330
LAST-MODIFIED:20230330
UID:7092-1680739200-1680825599@www.dclic.asso.fr
SUMMARY:Concours d'éloquence Ogma - 2nd tour à France Télévisions
DESCRIPTION:
URL:http://www.dclic.asso.fr/agenda/concours-deloquence-ogma-2nd-tour-a-france-televisions/
LOCATION: 7\, esplanade Henri-de-France\, Paris\, 75015\, France
CATEGORIES:D-Clic Eloquence
ATTACH;FMTTYPE=image/png:http://www.dclic.asso.fr/wp-content/uploads/2023/03/Affiche-Demi-Finale-A3-Impression2.png
ORGANIZER;CN="D-Clic":MAILTO:mission@dclic.asso.fr
END:VEVENT
END:VCALENDAR