BEGIN:VCALENDAR
VERSION:2.0
PRODID:-//Association D-Clic - ECPv4.2//NONSGML v1.0//EN
CALSCALE:GREGORIAN
METHOD:PUBLISH
X-WR-CALNAME:Association D-Clic
X-ORIGINAL-URL:http://www.dclic.asso.fr
X-WR-CALDESC:Events for Association D-Clic
BEGIN:VEVENT
DTSTART;TZID=UTC+2:20230412T140000
DTEND;TZID=UTC+2:20230412T173000
DTSTAMP:20260423T140636
CREATED:20230330T155953
LAST-MODIFIED:20230330T155953
UID:7096-1681308000-1681320600@www.dclic.asso.fr
SUMMARY:Créa D-Clic : Demi-Finale à la CCI Campus Alsace
DESCRIPTION:
URL:http://www.dclic.asso.fr/agenda/crea-d-clic-demi-finale-a-la-cci-campus-alsace/
LOCATION:234 Avenue de Colmar\, Strasbourg\, 67021\, France
CATEGORIES:Créa D-Clic
ATTACH;FMTTYPE=image/png:http://www.dclic.asso.fr/wp-content/uploads/2023/03/Affiche-Demi-Finale-A3-Impression.png
ORGANIZER;CN="D-Clic":MAILTO:mission@dclic.asso.fr
END:VEVENT
END:VCALENDAR