BEGIN:VCALENDAR
VERSION:2.0
PRODID:-//Association D-Clic - ECPv4.2//NONSGML v1.0//EN
CALSCALE:GREGORIAN
METHOD:PUBLISH
X-WR-CALNAME:Association D-Clic
X-ORIGINAL-URL:http://www.dclic.asso.fr
X-WR-CALDESC:Events for Association D-Clic
BEGIN:VEVENT
DTSTART;TZID=UTC+2:20230426T140000
DTEND;TZID=UTC+2:20230426T170000
DTSTAMP:20260419T231852
CREATED:20230216T112147
LAST-MODIFIED:20230328T113814
UID:6859-1682517600-1682528400@www.dclic.asso.fr
SUMMARY:La dictée pour tous au CSC Hautepierre
DESCRIPTION:
URL:http://www.dclic.asso.fr/agenda/dictee-csc-hautepierre-2/
LOCATION:4 Avenue Tolstoi \, Strabourg\, 67000\, France
CATEGORIES:D-Clic
ATTACH;FMTTYPE=image/jpeg:http://www.dclic.asso.fr/wp-content/uploads/2023/02/fa67da6b-7008-48db-9441-e6143d4a7641.jpg
ORGANIZER;CN="D-Clic":MAILTO:mission@dclic.asso.fr
END:VEVENT
END:VCALENDAR