BEGIN:VCALENDAR
VERSION:2.0
PRODID:-//Association D-Clic - ECPv4.2//NONSGML v1.0//EN
CALSCALE:GREGORIAN
METHOD:PUBLISH
X-WR-CALNAME:Association D-Clic
X-ORIGINAL-URL:http://www.dclic.asso.fr
X-WR-CALDESC:Events for Association D-Clic
BEGIN:VEVENT
DTSTART;TZID=UTC+2:20230616T180000
DTEND;TZID=UTC+2:20230616T200000
DTSTAMP:20260419T231556
CREATED:20230601T115720
LAST-MODIFIED:20230601T121758
UID:7693-1686938400-1686945600@www.dclic.asso.fr
SUMMARY:FINALE CHALLENGE INTER-COLLÈGES CRÉA D-CLIC MOSELLE
DESCRIPTION:
URL:http://www.dclic.asso.fr/agenda/finale-challenge-inter-colleges-crea-d-clic-moselle/
LOCATION:6 Rue de l'Étoile\, Florange\, 57190\, France
CATEGORIES:D-Clic
ATTACH;FMTTYPE=image/jpeg:http://www.dclic.asso.fr/wp-content/uploads/2023/06/Affiche-Finale-Créa-D-Clic-Moselle-.jpg
ORGANIZER;CN="D-Clic":MAILTO:mission@dclic.asso.fr
END:VEVENT
END:VCALENDAR