BEGIN:VCALENDAR
VERSION:2.0
PRODID:-//Association D-Clic - ECPv4.2//NONSGML v1.0//EN
CALSCALE:GREGORIAN
METHOD:PUBLISH
X-WR-CALNAME:Association D-Clic
X-ORIGINAL-URL:http://www.dclic.asso.fr
X-WR-CALDESC:Events for Association D-Clic
BEGIN:VEVENT
DTSTART;TZID=UTC+2:20230513T090000
DTEND;TZID=UTC+2:20230513T120000
DTSTAMP:20260419T213637
CREATED:20221113T150134
LAST-MODIFIED:20230328T113437
UID:6690-1683968400-1683979200@www.dclic.asso.fr
SUMMARY:Forum des métiers
DESCRIPTION:
URL:http://www.dclic.asso.fr/agenda/forum-des-metiers-10/
LOCATION:4 rue du Guirbaden\, Bischheim\, 67800\, France
CATEGORIES:D-Clic Métiers
ATTACH;FMTTYPE=image/png:http://www.dclic.asso.fr/wp-content/uploads/2015/02/dclic-metiers_f2.png
ORGANIZER;CN="D-Clic":MAILTO:mission@dclic.asso.fr
END:VEVENT
END:VCALENDAR