BEGIN:VCALENDAR
VERSION:2.0
PRODID:-//Association D-Clic - ECPv4.2//NONSGML v1.0//EN
CALSCALE:GREGORIAN
METHOD:PUBLISH
X-WR-CALNAME:Association D-Clic
X-ORIGINAL-URL:http://www.dclic.asso.fr
X-WR-CALDESC:Events for Association D-Clic
BEGIN:VEVENT
DTSTART;TZID=UTC+2:20230419T143000
DTEND;TZID=UTC+2:20230419T170000
DTSTAMP:20260423T110402
CREATED:20230314T150324
LAST-MODIFIED:20230330T142417
UID:7037-1681914600-1681923600@www.dclic.asso.fr
SUMMARY:La dictée pour tous au CSC Cronenbourg Victor Schoelcher
DESCRIPTION:
URL:http://www.dclic.asso.fr/agenda/la-dictee-pour-tous-au-csc-cronenbourg-victor-schoelcher/
LOCATION:56 Rue du Rieth\, Strasbourg\, 67200
CATEGORIES:D-Clic
ATTACH;FMTTYPE=image/jpeg:http://www.dclic.asso.fr/wp-content/uploads/2023/02/d817a318-d7d9-4747-82ba-e379242cf83f.jpg
ORGANIZER;CN="D-Clic":MAILTO:mission@dclic.asso.fr
END:VEVENT
END:VCALENDAR